BEGIN:VCALENDAR
VERSION:2.0
PRODID:-//DOZA Church - ECPv6.15.20//NONSGML v1.0//EN
CALSCALE:GREGORIAN
METHOD:PUBLISH
X-WR-CALNAME:DOZA Church
X-ORIGINAL-URL:https://dozachurch.com
X-WR-CALDESC:Events for DOZA Church
REFRESH-INTERVAL;VALUE=DURATION:PT1H
X-Robots-Tag:noindex
X-PUBLISHED-TTL:PT1H
BEGIN:VTIMEZONE
TZID:America/Toronto
BEGIN:DAYLIGHT
TZOFFSETFROM:-0500
TZOFFSETTO:-0400
TZNAME:EDT
DTSTART:20240310T070000
END:DAYLIGHT
BEGIN:STANDARD
TZOFFSETFROM:-0400
TZOFFSETTO:-0500
TZNAME:EST
DTSTART:20241103T060000
END:STANDARD
BEGIN:DAYLIGHT
TZOFFSETFROM:-0500
TZOFFSETTO:-0400
TZNAME:EDT
DTSTART:20250309T070000
END:DAYLIGHT
BEGIN:STANDARD
TZOFFSETFROM:-0400
TZOFFSETTO:-0500
TZNAME:EST
DTSTART:20251102T060000
END:STANDARD
BEGIN:DAYLIGHT
TZOFFSETFROM:-0500
TZOFFSETTO:-0400
TZNAME:EDT
DTSTART:20260308T070000
END:DAYLIGHT
BEGIN:STANDARD
TZOFFSETFROM:-0400
TZOFFSETTO:-0500
TZNAME:EST
DTSTART:20261101T060000
END:STANDARD
END:VTIMEZONE
BEGIN:VTIMEZONE
TZID:UTC
BEGIN:STANDARD
TZOFFSETFROM:+0000
TZOFFSETTO:+0000
TZNAME:UTC
DTSTART:20240101T000000
END:STANDARD
END:VTIMEZONE
BEGIN:VEVENT
DTSTART;TZID=America/Toronto:20250710T183000
DTEND;TZID=America/Toronto:20250710T203000
DTSTAMP:20260420T092217
CREATED:20250703T041226Z
LAST-MODIFIED:20250703T041226Z
UID:5999-1752172200-1752179400@dozachurch.com
SUMMARY:Wednesday Prayer & Encounter Meetings – Experience God’s Manifest Presence
DESCRIPTION:Join The Revival Center in partnership with the Revival Prayer Movement (RPM) every Wednesday evening for Prayer & Encounter Meetings — a powerful midweek gathering where lives are transformed\, burdens are lifted\, and God’s manifest presence is revealed. \nWhether you’re seeking spiritual renewal\, breakthrough in prayer\, or simply want to draw closer to God\, this weekly prayer meeting is your divine appointment. Come with expectation\, leave with encounter. \nExperience healing\, deliverance\, and fresh fire through the power of prayer. \nDon’t miss this moment to go deeper in the Spirit. Come hungry. Leave changed.
URL:https://dozachurch.com/event/wednesday-prayer-encounter-meetings-experience-gods-manifest-presence/
LOCATION:DOZMI – The Revival Center\, 1560 Dundas St W (Erindale Presbyterian Church)\, Mississauga\, Ontario\, L5C1E6\, Canada
END:VEVENT
BEGIN:VEVENT
DTSTART;TZID=UTC:20250706T183000
DTEND;TZID=UTC:20250706T203000
DTSTAMP:20260420T092217
CREATED:20250703T035633Z
LAST-MODIFIED:20250703T041617Z
UID:5991-1751826600-1751833800@dozachurch.com
SUMMARY:Sunday Service
DESCRIPTION:Join Us This Sunday at Deliverers of Zion – A Life-Changing Encounter Awaits!\nStep into a powerful atmosphere of vibrant worship\, dynamic teaching\, and the supernatural presence of God every Sunday at Deliverers of Zion Ministry International (DOZMI). \nExperience:– Spirit-filled worship that lifts your soul– Faith-building\, practical teachings from God’s Word– Prophetic prayers and the miraculous power of Jesus– A loving\, welcoming community that grows together in faith \nEvery Sunday service is more than a gathering — it’s a divine encounter designed to ignite your spirit\, equip you for purpose\, and release your miracle.
URL:https://dozachurch.com/event/sunday-service-7/
LOCATION:DOZMI – The Revival Center\, 1560 Dundas St W (Erindale Presbyterian Church)\, Mississauga\, Ontario\, L5C1E6\, Canada
END:VEVENT
BEGIN:VEVENT
DTSTART;TZID=UTC:20250330T163000
DTEND;TZID=UTC:20250330T190000
DTSTAMP:20260420T092217
CREATED:20250305T220315Z
LAST-MODIFIED:20250305T220315Z
UID:5927-1743352200-1743361200@dozachurch.com
SUMMARY:Sunday Service
DESCRIPTION:Join us every Sunday for a powerful time in God’s presence! Experience vibrant worship\, faith-building teachings\, and the supernatural power of God that will ignite your spirit and transform your life. At Deliverers of Zion\, every service is an opportunity to encounter Jesus\, grow in His Word\, and be empowered to fulfill your destiny. \nCome expectant\, bring a friend\, and let’s worship together! Your miracle is waiting!
URL:https://dozachurch.com/event/sunday-service-6/
LOCATION:Mississauga Valley Community Center\, 275 Mississauga Valley Blvd\, Mississauga\, Ontario\, L5A3R8\, Canada
END:VEVENT
BEGIN:VEVENT
DTSTART;TZID=UTC:20250323T163000
DTEND;TZID=UTC:20250323T190000
DTSTAMP:20260420T092217
CREATED:20250213T193527Z
LAST-MODIFIED:20250305T220223Z
UID:5851-1742747400-1742756400@dozachurch.com
SUMMARY:Sunday Service
DESCRIPTION:Join us every Sunday for a powerful time in God’s presence! Experience vibrant worship\, faith-building teachings\, and the supernatural power of God that will ignite your spirit and transform your life. At Deliverers of Zion\, every service is an opportunity to encounter Jesus\, grow in His Word\, and be empowered to fulfill your destiny. \nCome expectant\, bring a friend\, and let’s worship together! Your miracle is waiting!
URL:https://dozachurch.com/event/sunday-service-2-2/
LOCATION:Mississauga Valley Community Center\, 275 Mississauga Valley Blvd\, Mississauga\, Ontario\, L5A3R8\, Canada
END:VEVENT
BEGIN:VEVENT
DTSTART;TZID=UTC:20250316T163000
DTEND;TZID=UTC:20250316T190000
DTSTAMP:20260420T092217
CREATED:20250305T220117Z
LAST-MODIFIED:20250305T220117Z
UID:5922-1742142600-1742151600@dozachurch.com
SUMMARY:Sunday Service
DESCRIPTION:Join us every Sunday for a powerful time in God’s presence! Experience vibrant worship\, faith-building teachings\, and the supernatural power of God that will ignite your spirit and transform your life. At Deliverers of Zion\, every service is an opportunity to encounter Jesus\, grow in His Word\, and be empowered to fulfill your destiny. \nCome expectant\, bring a friend\, and let’s worship together! Your miracle is waiting!
URL:https://dozachurch.com/event/sunday-service-5/
LOCATION:Mississauga Valley Community Center\, 275 Mississauga Valley Blvd\, Mississauga\, Ontario\, L5A3R8\, Canada
END:VEVENT
BEGIN:VEVENT
DTSTART;TZID=UTC:20250309T163000
DTEND;TZID=UTC:20250309T190000
DTSTAMP:20260420T092217
CREATED:20250305T220049Z
LAST-MODIFIED:20250305T220049Z
UID:5923-1741537800-1741546800@dozachurch.com
SUMMARY:Sunday Service
DESCRIPTION:Join us every Sunday for a powerful time in God’s presence! Experience vibrant worship\, faith-building teachings\, and the supernatural power of God that will ignite your spirit and transform your life. At Deliverers of Zion\, every service is an opportunity to encounter Jesus\, grow in His Word\, and be empowered to fulfill your destiny. \nCome expectant\, bring a friend\, and let’s worship together! Your miracle is waiting!
URL:https://dozachurch.com/event/sunday-service-2/
LOCATION:Mississauga Valley Community Center\, 275 Mississauga Valley Blvd\, Mississauga\, Ontario\, L5A3R8\, Canada
END:VEVENT
BEGIN:VEVENT
DTSTART;TZID=UTC:20250302T163000
DTEND;TZID=UTC:20250302T190000
DTSTAMP:20260420T092217
CREATED:20250213T193634Z
LAST-MODIFIED:20250213T193634Z
UID:5853-1740933000-1740942000@dozachurch.com
SUMMARY:Sunday Service
DESCRIPTION:Join us every Sunday for a powerful time in God’s presence! Experience vibrant worship\, faith-building teachings\, and the supernatural power of God that will ignite your spirit and transform your life. At Deliverers of Zion\, every service is an opportunity to encounter Jesus\, grow in His Word\, and be empowered to fulfill your destiny. \nCome expectant\, bring a friend\, and let’s worship together! Your miracle is waiting!
URL:https://dozachurch.com/event/sunday-service-3/
LOCATION:Mississauga Valley Community Center\, 275 Mississauga Valley Blvd\, Mississauga\, Ontario\, L5A3R8\, Canada
END:VEVENT
BEGIN:VEVENT
DTSTART;TZID=UTC:20250223T163000
DTEND;TZID=UTC:20250223T190000
DTSTAMP:20260420T092217
CREATED:20250305T215942Z
LAST-MODIFIED:20250305T215942Z
UID:5921-1740328200-1740337200@dozachurch.com
SUMMARY:Sunday Service
DESCRIPTION:Join us every Sunday for a powerful time in God’s presence! Experience vibrant worship\, faith-building teachings\, and the supernatural power of God that will ignite your spirit and transform your life. At Deliverers of Zion\, every service is an opportunity to encounter Jesus\, grow in His Word\, and be empowered to fulfill your destiny. \nCome expectant\, bring a friend\, and let’s worship together! Your miracle is waiting!
URL:https://dozachurch.com/event/sunday-service-4/
LOCATION:Mississauga Valley Community Center\, 275 Mississauga Valley Blvd\, Mississauga\, Ontario\, L5A3R8\, Canada
END:VEVENT
BEGIN:VEVENT
DTSTART;TZID=UTC:20250216T163000
DTEND;TZID=UTC:20250216T190000
DTSTAMP:20260420T092217
CREATED:20250214T002412Z
LAST-MODIFIED:20250214T002412Z
UID:5847-1739723400-1739732400@dozachurch.com
SUMMARY:Sunday Service
DESCRIPTION:Join us every Sunday for a powerful time in God’s presence! Experience vibrant worship\, faith-building teachings\, and the supernatural power of God that will ignite your spirit and transform your life. At Deliverers of Zion\, every service is an opportunity to encounter Jesus\, grow in His Word\, and be empowered to fulfill your destiny. \nCome expectant\, bring a friend\, and let’s worship together! Your miracle is waiting!
URL:https://dozachurch.com/event/sunday-service/
LOCATION:Mississauga Valley Community Center\, 275 Mississauga Valley Blvd\, Mississauga\, Ontario\, L5A3R8\, Canada
END:VEVENT
END:VCALENDAR